BEGIN:VCALENDAR
VERSION:2.0
PRODID:-//Swiss Chamber in Portugal - ECPv6.15.20//NONSGML v1.0//EN
CALSCALE:GREGORIAN
METHOD:PUBLISH
X-WR-CALNAME:Swiss Chamber in Portugal
X-ORIGINAL-URL:https://swiss-chamber.pt
X-WR-CALDESC:Events for Swiss Chamber in Portugal
REFRESH-INTERVAL;VALUE=DURATION:PT1H
X-Robots-Tag:noindex
X-PUBLISHED-TTL:PT1H
BEGIN:VTIMEZONE
TZID:UTC
BEGIN:STANDARD
TZOFFSETFROM:+0000
TZOFFSETTO:+0000
TZNAME:UTC
DTSTART:20230101T000000
END:STANDARD
END:VTIMEZONE
BEGIN:VEVENT
DTSTART;TZID=UTC:20240325T063000
DTEND;TZID=UTC:20240325T233000
DTSTAMP:20260420T145143
CREATED:20240307T134404Z
LAST-MODIFIED:20240311T163458Z
UID:8549-1711348200-1711409400@swiss-chamber.pt
SUMMARY:Assembleia Geral CCISP - Seguida de jantar com key note speech
DESCRIPTION:Assembleia Geral CCISP (só para associados): 18h30\nJantar (aberto ao público): 20h \n  \nKey note speech durante o jantar\nEspionagem: Mito ou Realidade \nAtualmente\, todas as empresas têm de lidar com a segurança dos dados\, independentemente de serem grandes ou pequenas organizações. E\, por isso\, este jogo constante do “gato e do rato” é um tema pertinente que as empresas devem ter em consideração e atualizar permanentemente. A questão é saber quais das coisas que se ouvem são de facto verdadeiras na prática\, quais são meros mitos e que medidas de proteção podem e devem ser tomadas. A especialista do SIS (Serviço de Informações de Segurança) responderá a esta questão na noite no jantar de networking que se segue à Assembleia Geral. \n \nOradora: Dra. Cláudia Cunha SIS\, Programa de Proteção do Conhecimento Serviço de Informações de Segurança \n  \nPrazo de inscrição: 21/03/2024\nJantar às 20h00\nValor: Associados: EUR 35 (isento do IVA) – Não-Associados: EUR 45 (+ IVA)\nModalidades de pagamento: transferência bancária\nIBAN: PT50 0010 0000 5398 7580 00196\nCaso pagamento seja efetuado via ATM agradecemos que nos seja comunicado justificativo e respetivo nome.\nCancelamentos só podem ser reembolsadas se forem feitos até ao dia 21/03/2024. \nFaça já a sua inscrição!\n\nThis form is disabled.
URL:https://swiss-chamber.pt/event/assembleia-geral-ccisp-seguida-de-jantar/
LOCATION:Lisboa Plaza Hotel\, Tv. Salitre 7\, Lisboa\, 1269-066\, Portugal
ATTACH;FMTTYPE=image/jpeg:https://swiss-chamber.pt/wp-content/uploads/2024/03/Hotel-Lisboa-Plaza-buffet.jpg
END:VEVENT
END:VCALENDAR