BEGIN:VCALENDAR
VERSION:2.0
PRODID:-//Swiss Chamber in Portugal - ECPv6.15.20//NONSGML v1.0//EN
CALSCALE:GREGORIAN
METHOD:PUBLISH
X-WR-CALNAME:Swiss Chamber in Portugal
X-ORIGINAL-URL:https://swiss-chamber.pt
X-WR-CALDESC:Events for Swiss Chamber in Portugal
REFRESH-INTERVAL;VALUE=DURATION:PT1H
X-Robots-Tag:noindex
X-PUBLISHED-TTL:PT1H
BEGIN:VTIMEZONE
TZID:UTC
BEGIN:STANDARD
TZOFFSETFROM:+0000
TZOFFSETTO:+0000
TZNAME:UTC
DTSTART:20220101T000000
END:STANDARD
END:VTIMEZONE
BEGIN:VEVENT
DTSTART;TZID=UTC:20231214T180000
DTEND;TZID=UTC:20231214T210000
DTSTAMP:20260420T162249
CREATED:20231130T170914Z
LAST-MODIFIED:20231130T171330Z
UID:8316-1702576800-1702587600@swiss-chamber.pt
SUMMARY:Grand Watchmaking Prize
DESCRIPTION:As well as the launch of the yearbook: “Anuário Relógios & Canetas 2024”\nTake part in this gathering of the fine art of watchmaking and benefit from networking with representatives of luxury brands.
URL:https://swiss-chamber.pt/event/grand-watchmaking-prize/
LOCATION:Societé Suisse de Lisbonne\, Rua Silva Carvalho\, 150\, Lisboa\, 1250-257\, Portugal
ATTACH;FMTTYPE=image/jpeg:https://swiss-chamber.pt/wp-content/uploads/2023/11/evento-relogios-dez23.jpg
END:VEVENT
END:VCALENDAR