BEGIN:VCALENDAR
VERSION:2.0
PRODID:-//Swiss Chamber in Portugal - ECPv6.15.20//NONSGML v1.0//EN
CALSCALE:GREGORIAN
METHOD:PUBLISH
X-ORIGINAL-URL:https://swiss-chamber.pt
X-WR-CALDESC:Events for Swiss Chamber in Portugal
REFRESH-INTERVAL;VALUE=DURATION:PT1H
X-Robots-Tag:noindex
X-PUBLISHED-TTL:PT1H
BEGIN:VTIMEZONE
TZID:UTC
BEGIN:STANDARD
TZOFFSETFROM:+0000
TZOFFSETTO:+0000
TZNAME:UTC
DTSTART:20240101T000000
END:STANDARD
END:VTIMEZONE
BEGIN:VEVENT
DTSTART;TZID=UTC:20251211T180000
DTEND;TZID=UTC:20251211T193000
DTSTAMP:20260422T191312
CREATED:20251203T183255Z
LAST-MODIFIED:20251203T184019Z
UID:10173-1765476000-1765481400@swiss-chamber.pt
SUMMARY:Lançamento do Anuário&Canetas com Revelação dos Distinguidos no Grande Prémio de Relojoaria 2025
DESCRIPTION:Com a época natalícia\, voltamos a dedicar-nos aos contactos pessoais e às nossas paixões. \nPara encerrar o ano de eventos da CCISP\, convidamos para o lançamento do Anuário Relógios&Canetas para todos os amantes de relógios e outros artigos de alta qualidade. É também uma oportunidade para conhecer especialistas reconhecidos neste domínio. \nO Anuário Relógios&Canetas é\, sem dúvida\, uma das publicações mais importantes na área da alta relógiaria em Portugal. Existe uma edição mensal online e uma edição anual impressa\, cuja nova edição será lançada neste evento. \nAlém disso\, haverá também a cerimónia de entrega dos prémios para os melhores relógios em diferentes categorias\, assim como para todos os participantes a possibilidade de ganhar prémios. \nPerito e Organizador principal: Fernando Correia de Oliveira\nLíngua: Português\nCusto de Participação: Gratuito. Entrada aberta\, Não é preciso de registo \n \n 
URL:https://swiss-chamber.pt/event/lancamento-do-anuariocanetas-com-revelacao-dos-distinguidos-no-grande-premio-de-relojoaria-2025/
LOCATION:Sociedade de Geografia de Lisboa\, Rua das Portas de Santo Antão\, 102\, Lisboa\, 1150-268\, Portugal
ATTACH;FMTTYPE=image/jpeg:https://swiss-chamber.pt/wp-content/uploads/2025/12/cover-convite_2026.jpg
END:VEVENT
END:VCALENDAR