BEGIN:VCALENDAR
VERSION:2.0
PRODID:-//Swiss Chamber in Portugal - ECPv6.15.20//NONSGML v1.0//EN
CALSCALE:GREGORIAN
METHOD:PUBLISH
X-WR-CALNAME:Swiss Chamber in Portugal
X-ORIGINAL-URL:https://swiss-chamber.pt
X-WR-CALDESC:Events for Swiss Chamber in Portugal
REFRESH-INTERVAL;VALUE=DURATION:PT1H
X-Robots-Tag:noindex
X-PUBLISHED-TTL:PT1H
BEGIN:VTIMEZONE
TZID:UTC
BEGIN:STANDARD
TZOFFSETFROM:+0000
TZOFFSETTO:+0000
TZNAME:UTC
DTSTART:20210101T000000
END:STANDARD
END:VTIMEZONE
BEGIN:VEVENT
DTSTART;TZID=UTC:20251014T083000
DTEND;TZID=UTC:20251014T100000
DTSTAMP:20260422T221754
CREATED:20250915T174153Z
LAST-MODIFIED:20250919T113813Z
UID:10092-1760430600-1760436000@swiss-chamber.pt
SUMMARY:5th Swiss Business Breakfast(MEMBERS ONLY EVENT!)
DESCRIPTION:The CEO of Zurich Portugal\, Helene Westerlind\nand\nThe President of the Swiss-Portuguese Chamber of Commerce and Industry\, António Bico\nare pleased to invite you to\nthe 5TH SWISS BUSINESS BREAKFAST\nWith a presentation on\nSustainability: Climate resilience – what is the role of insurers to positively contribute to climate change \nDate and time: 14/10/2025\, 8h30-10h\nLocation: Zurich Portugal\, R. Barata Salgueiro 41 1º Andar\, 1269-058 Lisboa \n→ Download pdf \nParticipation is free but requires registration. Please register by October 10. \n\nThis form is disabled.
URL:https://swiss-chamber.pt/event/swiss-business-breakfastmembers-only-event/
LOCATION:Zurich Portugal\, R. Barata Salgueiro 41\, 1º Andar\, Lisboa\, 1269-058\, Portugal
CATEGORIES:Members Only Events
ATTACH;FMTTYPE=image/jpeg:https://swiss-chamber.pt/wp-content/uploads/2025/09/convite-5-swiss-business-breakfast.jpg
END:VEVENT
BEGIN:VEVENT
DTSTART;TZID=UTC:20250923T083000
DTEND;TZID=UTC:20250923T103000
DTSTAMP:20260422T221754
CREATED:20250612T171614Z
LAST-MODIFIED:20250915T174935Z
UID:10035-1758616200-1758623400@swiss-chamber.pt
SUMMARY:Swiss Business Breakfast (MEMBERS ONLY EVENT!)
DESCRIPTION:The CEO of Adecco Portugal\, Alexandra Andrade\,\nand\nThe President of the Swiss-Portuguese Chamber of Commerce and Industry\, António Bico\,\nare pleased to invite you to the SWISS BUSINESS BREAKFAST\nWith a presentation on\nHybrid Work. Total engagement\, is it possible?\nJoin us for a morning of fresh ideas. A view worth sharing. \nDate and time: 23/09/2025\, 8h30-10h\nLocation: Adecco Portugal Headquarters\, Av. Dom João II 50\, 8º andar\, 1990-095 Lisboa\n→ Download pdf\n\nThis form is disabled.
URL:https://swiss-chamber.pt/event/swiss-business-breakfast-members-only-event-3/
LOCATION:Adecco Portugal Headquarters\, Av. Dom João II 50\, Lisboa\, 1990-095\, Portugal
CATEGORIES:Members Only Events
ATTACH;FMTTYPE=image/jpeg:https://swiss-chamber.pt/wp-content/uploads/2025/06/SwissBreakfast_Invite.jpg
END:VEVENT
BEGIN:VEVENT
DTSTART;TZID=UTC:20250526T163000
DTEND;TZID=UTC:20250526T183000
DTSTAMP:20260422T221754
CREATED:20250414T154248Z
LAST-MODIFIED:20250602T105145Z
UID:9976-1748277000-1748284200@swiss-chamber.pt
SUMMARY:Lançamento da Delegação do Norte da CCISP
DESCRIPTION:Local: Câmara Municipal do Porto\nDress code: Business Casual \nUm encontro empresarial da comunidade luso-suíça.\nContaremos com a presença de personalidades de organizações empresariais\, económicas\, políticas\, académicas e institucionais. \nInformações: info@camsuica.com \nNão há custo de participação\, mas a inscrição é necessária: \n\nThis form is disabled.
URL:https://swiss-chamber.pt/event/lancamento-da-delegacao-do-norte-da-ccisp/
LOCATION:Câmara Municipal do Porto\, PC GEN Humberto Delgado\, Porto\, 4049-001\, Portugal
ATTACH;FMTTYPE=image/jpeg:https://swiss-chamber.pt/wp-content/uploads/2025/04/CM-Porto-Aliados.jpg
END:VEVENT
BEGIN:VEVENT
DTSTART;TZID=UTC:20250326T183000
DTEND;TZID=UTC:20250326T223000
DTSTAMP:20260422T221754
CREATED:20250311T092836Z
LAST-MODIFIED:20250311T104807Z
UID:9960-1743013800-1743028200@swiss-chamber.pt
SUMMARY:Assembleia Geral Ordinária da CCISP
DESCRIPTION:Local: Altis Grand Hotel\, Rua Castilho 11\, 1269-072 Lisboa\nHora: 17h30 (1ªconvocação)\, e 18h30\, 2ª convocação\nNa Assembleia Geral só podem participar os representantes de empresas associadas à CCISP.\nLogo a seguir à AG\, juntamo-nos para um jantar de convívio. Neste\, também não-associados podem participar.\nCusto do jantar-buffet associado: EUR 44\,00 (IVA não é aplicável)\nCusto do jantar-buffet não-associado: EUR 49\,00 (IVA aplicável) \nPrazo de inscrição: 22/03/2025\nOs cancelamentos de participação devem ser comunicados até 48 horas antes do evento\, caso contrário o valor de inscrição não poderá ser reembolsado (porque teremos de pagar ao hotel pela inscrição). \nFaça parte deste convívio empresarial luso-suíço! \n\nThis form is disabled.
URL:https://swiss-chamber.pt/event/assembleia-geral-ordinaria-da-ccisp/
LOCATION:Altis Grand Hotel\, Rua Castilho 11\, Lisboa\, 1269-072\, Portugal
ATTACH;FMTTYPE=image/jpeg:https://swiss-chamber.pt/wp-content/uploads/2025/03/CONVITE-AG26032025.jpg
END:VEVENT
BEGIN:VEVENT
DTSTART;TZID=UTC:20250212T083000
DTEND;TZID=UTC:20250212T220000
DTSTAMP:20260422T221754
CREATED:20250204T142839Z
LAST-MODIFIED:20250612T170352Z
UID:9948-1739349000-1739397600@swiss-chamber.pt
SUMMARY:Swiss Business Breakfast (MEMBERS ONLY EVENT!)
DESCRIPTION:Our MEMBERS ONLY Swiss Business Breakfast that we launched last year are continuing this year!\nFind out how the Swiss company SGS works and learn how they certify products. All of this as part of an interesting morning networking session. \nDate and time: 12/02/2025\, 8h30-10h\nLocation: SGS Portugal\, Polo Tecnológico de Lisboa\, Rua Cesina Adães Bermudes\, nº11\, 1600-604 Lisboa\nParque de estacionamento gratuito em frente à entrada da SGS \nProgram:\n08h30 – Welcome – Catarina Paralta\, Country Manager SGS Portugal\n08h40 – Presentation (EN) “SGS\, your partner for the entire value chain\, from the lab testing to certification”\, Tânia Domingues and Gonçalo Costa\n09h00 – Debate and Q&A\n09h15 – Coffee-break and networking\n10h00 – End \nEnrollment is free of charge\, but necessary: Swiss Business Breakfast | Inscrição \nSee you soon!
URL:https://swiss-chamber.pt/event/swiss-business-breakfast-members-only-event-2/
LOCATION:SGS Portugal\, Polo Tecnológico de Lisboa\, Rua Cesina Adães Bermudes\, nº11\, Lisboa\, 1600-604\, Portugal
CATEGORIES:Members Only Events
ATTACH;FMTTYPE=image/jpeg:https://swiss-chamber.pt/wp-content/uploads/2025/02/swiss-business-breakfast.jpg
END:VEVENT
BEGIN:VEVENT
DTSTART;TZID=UTC:20241212T180000
DTEND;TZID=UTC:20241212T200000
DTSTAMP:20260422T221754
CREATED:20240906T161430Z
LAST-MODIFIED:20241128T145908Z
UID:9651-1734026400-1734033600@swiss-chamber.pt
SUMMARY:Launch of the “Watches & Pens” Yearbook 2025
DESCRIPTION:The Grand Prix of Watchmaking is the annual event for aficionados of the art of watchmaking and Swiss high end consumer products. \nAt this event\, we launch the new “Watches & Pens” yearbook (Anuário Relógios & Canetas) for 2025\, edited by Fernando Correia de Oliveira\, a journalist and for decades recognized as one of the most profound connoisseurs of watchmaking in Portugal. In addition\, the “Watchmaking Grand Prix” competition will take place\, with the distributors of the best watches in 7 categories receiving a prize during the event. \nParticipation is free. However\, registration is required.
URL:https://swiss-chamber.pt/event/18h-tbc-launch-of-the-watchpen-yearbook-2025/
LOCATION:Sociedade de Geografia de Lisboa\, Rua das Portas de Santo Antão\, 102\, Lisboa\, 1150-268\, Portugal
ATTACH;FMTTYPE=image/jpeg:https://swiss-chamber.pt/wp-content/uploads/2024/09/Anuario-Imagem.jpg
END:VEVENT
BEGIN:VEVENT
DTSTART;TZID=UTC:20241111T193000
DTEND;TZID=UTC:20241111T223000
DTSTAMP:20260422T221754
CREATED:20240906T160953Z
LAST-MODIFIED:20241002T152836Z
UID:9647-1731353400-1731364200@swiss-chamber.pt
SUMMARY:#Swisstech Night 2024
DESCRIPTION:During the Websummit 2024\, one of the biggest events worldwide for the tech community\, the #Swisstech Night wants to give startups a relevant and exceptional platform to present themselves and to mingle with their peers. For investors\, it is an opportunity to find interesting investment targets. And companies that want to set up a branch in Switzerland will find the right contacts at this event. In other words\, high-quality international networking with Switzerland and Portugal as the mainstays. \nIn 2024\, our focus areas are AI\, Foodtech and Fintech. There will be special roundtables dedicated to these topics. \nPlease visit: https://swisstechnight.swiss-chamber.pt/
URL:https://swiss-chamber.pt/event/swisstech-night-2024/
ATTACH;FMTTYPE=image/jpeg:https://swiss-chamber.pt/wp-content/uploads/2022/10/swisstech-800x445-1.jpg
END:VEVENT
BEGIN:VEVENT
DTSTART;TZID=UTC:20241024T123000
DTEND;TZID=UTC:20241024T160000
DTSTAMP:20260422T221754
CREATED:20241002T151611Z
LAST-MODIFIED:20241002T155024Z
UID:9710-1729773000-1729785600@swiss-chamber.pt
SUMMARY:Visita à Fábrica da SIKA em Ovar
DESCRIPTION:SIKA Portugal e a Câmara de Comércio e Indústria Suíça em Portugal convidam para uma Visita à Fábrica da SIKA em Ovar que será precedida por um almoço de convívio. \nPrograma:\n12:30 Receção\n13:00 Almoço\n14:30 Apresentação da Sika Portugal/Sika Academy\n15:00 Visita à fábrica\n16:00 Encerramento \nNão há custo de participação\, mas a inscrição é necessária até 16/10/2024: \n\nThis form is disabled.
URL:https://swiss-chamber.pt/event/visita-a-fabrica-da-sika-em-ovar/
LOCATION:SIKA\, Rua João Oliveira Ramos\, Ovar\, 3880-009\, Portugal
ATTACH;FMTTYPE=image/jpeg:https://swiss-chamber.pt/wp-content/uploads/2024/10/SIKA-OUT24.jpg
END:VEVENT
BEGIN:VEVENT
DTSTART;TZID=UTC:20241001T083000
DTEND;TZID=UTC:20241001T100000
DTSTAMP:20260422T221754
CREATED:20240906T160040Z
LAST-MODIFIED:20240906T160434Z
UID:9638-1727771400-1727776800@swiss-chamber.pt
SUMMARY:Swiss Business Breakfast (MEMBERS ONLY EVENT!)
DESCRIPTION:Swiss Business Breakfast\, Nestlé headquarter\, Linda-a-Velha (Lisbon) \n \nParticipation is free\, but requires registration.\nRegistrations will be considered in chronological order (first-come first-served).\nPlease register for this event by May 15th by e-mail: info@camsuica.com
URL:https://swiss-chamber.pt/event/swiss-business-breakfast-members-only-event/
LOCATION:Nestlé headquarter\, R. Alexandre Herculano 8\, Linda-a-Velha\, 2799-554\, Portugal
CATEGORIES:Members Only Events
ATTACH;FMTTYPE=image/jpeg:https://swiss-chamber.pt/wp-content/uploads/2024/05/20240529_Swiss-Business-Breakfast_Flyer.jpg
END:VEVENT
BEGIN:VEVENT
DTSTART;TZID=UTC:20240604T180000
DTEND;TZID=UTC:20240604T203000
DTSTAMP:20260422T221754
CREATED:20240528T140626Z
LAST-MODIFIED:20240528T150314Z
UID:8723-1717524000-1717533000@swiss-chamber.pt
SUMMARY:Business Drink of the Bilateral Chambers of Commerce in Portugal
DESCRIPTION:Business Drink of the Bilateral Chambers of Commerce in Portugal at Altis Belém Hotel & Spa\n\n\nThis form is disabled. \nDownload invitation
URL:https://swiss-chamber.pt/event/business-drink-of-the-bilateral-chambers-of-commerce-in-portugal/
LOCATION:Altis Belém Hotel & Spa\, Doca do Bom Sucesso\, Lisboa\, 1400-038\, Portugal
ATTACH;FMTTYPE=image/jpeg:https://swiss-chamber.pt/wp-content/uploads/2024/05/altis-belem-hotel.jpg
END:VEVENT
BEGIN:VEVENT
DTSTART;TZID=UTC:20240529T083000
DTEND;TZID=UTC:20240529T100000
DTSTAMP:20260422T221754
CREATED:20240520T120127Z
LAST-MODIFIED:20240520T121139Z
UID:8683-1716971400-1716976800@swiss-chamber.pt
SUMMARY:Swiss Business Breakfast (MEMBERS ONLY EVENT!)
DESCRIPTION:The Ambassador of Switzerland to Portugal\, H.E. Denis Knobel\nand\nThe President of the Swiss-Portuguese Chamber of Commerce and Industry\, António Bico\nare pleased to invite you to the Launching Event of the\nSWISS BUSINESS BREAKFAST \nWith the presentation of a Swiss-Portuguese Startup \n\nThis first edition of Swiss Business Breakfasts is the perfect opportunity to network between company heads in an exclusive environment and to learn more about the activities of the Embassy of Switzerland as well as the CCISP. \nThe leaders of CCISP member companies will also have the chance to expand their contact and exchange on business realities in Portugal. \nParticipation is restricted to executives of the invited companies. \nParticipation is free\, but requires registration. Places are limited to 30 people.\nRegistrations will be considered in chronological order (first-come first-served).\nPlease register for this event by May 15th by e-mail: info@camsuica.com
URL:https://swiss-chamber.pt/event/members-only-event-swiss-business-breakfast/
CATEGORIES:Members Only Events
ATTACH;FMTTYPE=image/jpeg:https://swiss-chamber.pt/wp-content/uploads/2024/05/20240529_Swiss-Business-Breakfast_Flyer.jpg
END:VEVENT
BEGIN:VEVENT
DTSTART;TZID=UTC:20240404T180000
DTEND;TZID=UTC:20240404T200000
DTSTAMP:20260422T221754
CREATED:20240325T164502Z
LAST-MODIFIED:20240326T164130Z
UID:8594-1712253600-1712260800@swiss-chamber.pt
SUMMARY:Informal Business Drink
DESCRIPTION:Informal Business Drink at Martinhal Lisbon Oriente
URL:https://swiss-chamber.pt/event/informal-business-drink/
LOCATION:Martinhal Lisbon Oriente\, Praça Príncipe Perfeito\, Lisboa\, 1990-221\, Portugal
ATTACH;FMTTYPE=image/jpeg:https://swiss-chamber.pt/wp-content/uploads/2024/03/Pic-Martinhal-Oriente.jpg
END:VEVENT
BEGIN:VEVENT
DTSTART;TZID=UTC:20240325T063000
DTEND;TZID=UTC:20240325T233000
DTSTAMP:20260422T221754
CREATED:20240307T134404Z
LAST-MODIFIED:20240311T163458Z
UID:8549-1711348200-1711409400@swiss-chamber.pt
SUMMARY:Assembleia Geral CCISP - Seguida de jantar com key note speech
DESCRIPTION:Assembleia Geral CCISP (só para associados): 18h30\nJantar (aberto ao público): 20h \n  \nKey note speech durante o jantar\nEspionagem: Mito ou Realidade \nAtualmente\, todas as empresas têm de lidar com a segurança dos dados\, independentemente de serem grandes ou pequenas organizações. E\, por isso\, este jogo constante do “gato e do rato” é um tema pertinente que as empresas devem ter em consideração e atualizar permanentemente. A questão é saber quais das coisas que se ouvem são de facto verdadeiras na prática\, quais são meros mitos e que medidas de proteção podem e devem ser tomadas. A especialista do SIS (Serviço de Informações de Segurança) responderá a esta questão na noite no jantar de networking que se segue à Assembleia Geral. \n \nOradora: Dra. Cláudia Cunha SIS\, Programa de Proteção do Conhecimento Serviço de Informações de Segurança \n  \nPrazo de inscrição: 21/03/2024\nJantar às 20h00\nValor: Associados: EUR 35 (isento do IVA) – Não-Associados: EUR 45 (+ IVA)\nModalidades de pagamento: transferência bancária\nIBAN: PT50 0010 0000 5398 7580 00196\nCaso pagamento seja efetuado via ATM agradecemos que nos seja comunicado justificativo e respetivo nome.\nCancelamentos só podem ser reembolsadas se forem feitos até ao dia 21/03/2024. \nFaça já a sua inscrição!
URL:https://swiss-chamber.pt/event/assembleia-geral-ccisp-seguida-de-jantar/
LOCATION:Lisboa Plaza Hotel\, Tv. Salitre 7\, Lisboa\, 1269-066\, Portugal
ATTACH;FMTTYPE=image/jpeg:https://swiss-chamber.pt/wp-content/uploads/2024/03/Hotel-Lisboa-Plaza-buffet.jpg
END:VEVENT
BEGIN:VEVENT
DTSTART;TZID=UTC:20231214T180000
DTEND;TZID=UTC:20231214T210000
DTSTAMP:20260422T221754
CREATED:20231130T170914Z
LAST-MODIFIED:20231130T171330Z
UID:8316-1702576800-1702587600@swiss-chamber.pt
SUMMARY:Grand Watchmaking Prize
DESCRIPTION:As well as the launch of the yearbook: “Anuário Relógios & Canetas 2024”\nTake part in this gathering of the fine art of watchmaking and benefit from networking with representatives of luxury brands.
URL:https://swiss-chamber.pt/event/grand-watchmaking-prize/
LOCATION:Societé Suisse de Lisbonne\, Rua Silva Carvalho\, 150\, Lisboa\, 1250-257\, Portugal
ATTACH;FMTTYPE=image/jpeg:https://swiss-chamber.pt/wp-content/uploads/2023/11/evento-relogios-dez23.jpg
END:VEVENT
BEGIN:VEVENT
DTSTART;TZID=UTC:20231113T183000
DTEND;TZID=UTC:20231113T220000
DTSTAMP:20260422T221754
CREATED:20230322T085741Z
LAST-MODIFIED:20231029T112615Z
UID:2121-1699900200-1699912800@swiss-chamber.pt
SUMMARY:#Swisstech Night 2023
DESCRIPTION:A unique side event during the Websummit 2023 to mingle with the Swiss startup and investor community. No participation costs. \nParticipation only with invitation. \n\nPartners
URL:https://swiss-chamber.pt/event/swisstech-night-2023/
LOCATION:Premises bi4all\, Av. Marechal Gomes da Costa 27\, Lisbon\, 1800-255\, Portugal
ATTACH;FMTTYPE=image/jpeg:https://swiss-chamber.pt/wp-content/uploads/2022/10/swisstech-800x445-1.jpg
END:VEVENT
BEGIN:VEVENT
DTSTART;VALUE=DATE:20231026
DTEND;VALUE=DATE:20231027
DTSTAMP:20260422T221754
CREATED:20230530T111706Z
LAST-MODIFIED:20230602T174252Z
UID:4438-1698278400-1698364799@swiss-chamber.pt
SUMMARY:Leiria Centro Exportador 2023
DESCRIPTION:5ª Edição Leiria Centro Exportador\nMERCADO SANTANA – LEIRIA \nCould internationalization be the next step for your company? If so\, you can’t miss out this event where you can find all the information and contacts of the chambers of commerce of your interest in a single day and a single place. You will also find solutions for companies specialized in exportations linked to sectors such as logistics\, finance\, digital marketing\, amongst many others. \nExplore the advantages of expanding your business to the world.\nAttend Leiria Centro Exportador with CCISP on the 26th of October in Leiria! \nProgram and inscription
URL:https://swiss-chamber.pt/event/leiria-centro-exportador-2023/
ATTACH;FMTTYPE=image/jpeg:https://swiss-chamber.pt/wp-content/uploads/2023/05/leiria2023.jpg
END:VEVENT
BEGIN:VEVENT
DTSTART;TZID=UTC:20230927T183000
DTEND;TZID=UTC:20230927T220000
DTSTAMP:20260422T221754
CREATED:20230712T175009Z
LAST-MODIFIED:20230917T154806Z
UID:5775-1695839400-1695852000@swiss-chamber.pt
SUMMARY:CCISP meets HSG Alumni
DESCRIPTION:In the current AI hype (which reminds the older generation of us of the early days of the internet)\, we asked ourselves\, “How does AI truly influence our everyday business life?” \nTo explore this question\, I am delighted to announce that we have teamed up with the HSG Alumni Club Portugal. \nSo take the opportunity to learn from a high-level panel of speakers by attending the following event: \nImpact of AI on Marketing and Sales\n\nDate: September 27\, 2023\nTime: 18h30-22h00\nLocation: Terrace Restaurant\, Martinhal Oriente\, Praça Príncipe Perfeito\, 1990-221 Lisbon\n\nProgram: \n\n18h30: Opening with Aperitif\n19h00: Presentations on the impact of AI on Marketing and Sales\, Speakers and Panelists\n\nSven Reinecke\, Professor HSG University St. Gallen\, Switzerland\nSergio Alves Ferreira\, Partner\, EY Consulting\, Business Design & Transformation\, Lisbon\nRené Bohnsack\, Professor Catolica University\, Lisbon\nJoão Cardoso\, Chief Products & Technology\, GroupM\, Lisbon\n\n\n19h45: Panel Discussion with Q&A (audience)\n20h15: Buffet Dinner\n22h00: Closing\n\nCost: € 35/Person\nRSVP Deadline: September 22\, 2023 \nThe presentations will be held in English. Please confirm your attendance by registering here > register as a “guest”. \nDownload pdf
URL:https://swiss-chamber.pt/event/ccisp-meets-hsg-alumni/
LOCATION:Terrace Restaurant\, Martinhal Oriente\, Praça Príncipe Perfeito\, Lisbon\, 1990-221\, Portugal
ATTACH;FMTTYPE=image/jpeg:https://swiss-chamber.pt/wp-content/uploads/2023/07/HSG-Alumni-2-new.jpg
END:VEVENT
BEGIN:VEVENT
DTSTART;TZID=UTC:20230918T110000
DTEND;TZID=UTC:20230918T160000
DTSTAMP:20260422T221754
CREATED:20230712T180017Z
LAST-MODIFIED:20230714T172451Z
UID:5782-1695034800-1695052800@swiss-chamber.pt
SUMMARY:Visit Nestlé factory in Avanca
DESCRIPTION:Program:    \n11h00 – Meeting point: Casa-Museu Egas Moniz\nRua Prof. Dr. Egas Moniz 220\, 3860-078 Avanca (1\,2 km from Nestlé factory)\n12h30 – Lunch at the Nestlé factory (buffet offered by Nestlé)\n13h30-16h – Visit of the factory and distribution center \nDeadline for inscriptions: 10/09/2023 \n 
URL:https://swiss-chamber.pt/event/visit-nestle-factory-in-avanca/
LOCATION:Nestlé Avanca\, Rua da Nestlé 99\, Avanca\, 3860-071\, Portugal
ATTACH;FMTTYPE=image/jpeg:https://swiss-chamber.pt/wp-content/uploads/2023/07/Nestle-Fabrica-Avanca2-new.jpg
END:VEVENT
BEGIN:VEVENT
DTSTART;TZID=UTC:20230517T100000
DTEND;TZID=UTC:20230517T150000
DTSTAMP:20260422T221754
CREATED:20230424T170846Z
LAST-MODIFIED:20230424T171024Z
UID:3210-1684317600-1684335600@swiss-chamber.pt
SUMMARY:Visit of the Port of Sines
DESCRIPTION:Evento organizado pela CCISP\, em colaboração com a MSC \nSines é atualmente um dos hotspots mais importantes de Portugal na área da logística. Os investimentos de grande dimensão irão não só alterar os circuitos da logística da Península ibérica para a Europa\, mas também terão um impacto transversal na economia local e regional do Alentejo.\n>> Venha conhecer em primeira mão o que está a acontecer na Plataforma Portuária\, Industrial e Logística de Sines. \nData e hora 17 de maio de 2023\, 10h-15h \nPrograma \n10h00 – Ponto de encontro: Autoridade Portuária de Sines (APS)\, Rua do Porto Industrial\, Sines (lugares de estacionamento disponíveis).\n– Apresentação do Porto de Sines pela Autoridade Portuária (APS): Terminais\, fatores de sucesso e futuros desenvolvimentos na zona portuária.\n– Apresentação da ZILS – Zona Industrial e Logística de Sines pela AICEP Global Parques: Projetos nos setores da indústria e energia\, logística e digital.\n10h50 – Coffee-break e networking\n11h15 – Visita ao Porto (Terminal XXI)\, seguido pela visita à zona industrial e logística.\nDeslocação em autocarro disponibilizado pela APS.\n13h-15h – Almoço conjunto > Restaurante TBC\n(será oportunamente comunicado aos participantes) \nCustos de participação \nA participação neste evento não tem custos. As deslocações à zona portuária e à ZILS serão asseguradas por um autocarro da APS. \nNo entanto\, o almoço é pago por cada participante individualmente. Iremos fazer circular a escolha do menu antecipadamente para facilitar ao restaurante um serviço mais célere. \nInscrição  \nA inscrição é obrigatória através do respetivo formulário online. \nNB: Neste formulário será necessário preencher vários dados pessoais. O registo da identidade de cada participante é uma exigência do regulamento da Autoridade Portuária de Sines para conceder o acesso aos terminais e demais instalações portuárias.\nTodos os dados recolhidos servem apenas para o fim do controle de acesso ao Porto de Sines\, e a seguir ao evento serão tratados de acordo com as normas do RGPD. \nPrazo de inscrição: 3 de maio de 2023 \nParticipe neste evento informativo e de convívio
URL:https://swiss-chamber.pt/event/visit-of-the-port-of-sines/
ATTACH;FMTTYPE=image/jpeg:https://swiss-chamber.pt/wp-content/uploads/2023/04/porto-sines-1.jpg
END:VEVENT
BEGIN:VEVENT
DTSTART;TZID=UTC:20230328T180000
DTEND;TZID=UTC:20230328T230000
DTSTAMP:20260422T221754
CREATED:20230319T175208Z
LAST-MODIFIED:20230322T122051Z
UID:2085-1680026400-1680044400@swiss-chamber.pt
SUMMARY:CCISP General Assembly
DESCRIPTION:General Assembly at the Lisbon Marriott Hotel\, with the speaker Gil Azevedo\, President of Startup Lisboa. \n18h30 Assembleia-Geral (só para associados);\n20h Jantar (associados e não-associados)\nLocal: Lisbon Marriott Hotel\, Avenida dos Combatentes 45\, 1600-042 Lisboa \nMore information here.
URL:https://swiss-chamber.pt/event/ccisp-general-assembly/
ATTACH;FMTTYPE=image/jpeg:https://swiss-chamber.pt/wp-content/uploads/2023/03/Lisbon-Marriott.jpg
END:VEVENT
BEGIN:VEVENT
DTSTART;TZID=UTC:20230314T193000
DTEND;TZID=UTC:20230315T193000
DTSTAMP:20260422T221754
CREATED:20230426T170141Z
LAST-MODIFIED:20230426T170311Z
UID:3231-1678822200-1678908600@swiss-chamber.pt
SUMMARY:CCI events in Porto
DESCRIPTION:14th of March: International Dinner \n15th of March: Forum \n 
URL:https://swiss-chamber.pt/event/cci-events-in-porto/
ATTACH;FMTTYPE=image/jpeg:https://swiss-chamber.pt/wp-content/uploads/2023/04/forum-internacional.jpg
END:VEVENT
BEGIN:VEVENT
DTSTART;TZID=UTC:20221102T190000
DTEND;TZID=UTC:20221102T230000
DTSTAMP:20260422T221754
CREATED:20230426T170617Z
LAST-MODIFIED:20230426T170617Z
UID:3237-1667415600-1667430000@swiss-chamber.pt
SUMMARY:#Swisstech Night at Websummit
DESCRIPTION:A unique side event during the Websummit 2022 to mingle with the Swiss startup and investor community.\nNo participation costs.\nBeing part of an international audience to attend startup pitches presenting their disruptive ideas.\nMeet\, share and learn: Network with investors\, startups\, representatives of official institutions\, leaders of big companies and the media. \n+ INFO & Inscription Form
URL:https://swiss-chamber.pt/event/swisstech-night-at-websummit/
ATTACH;FMTTYPE=image/jpeg:https://swiss-chamber.pt/wp-content/uploads/2023/04/swisstech-2022.jpg
END:VEVENT
BEGIN:VEVENT
DTSTART;VALUE=DATE:20220706
DTEND;VALUE=DATE:20220707
DTSTAMP:20260422T221754
CREATED:20230426T170942Z
LAST-MODIFIED:20230426T171037Z
UID:3240-1657065600-1657151999@swiss-chamber.pt
SUMMARY:Go to Market Suíça
DESCRIPTION:AICEP Academy \nThis working breakfast will be held in Sala Tom Jobim\, at Hotel da Música\, in the city of Porto\, on the morning of the next 6th of July\, with work opening at 9:30 am. \nLEARN MORE
URL:https://swiss-chamber.pt/event/go-to-market-suica/
ATTACH;FMTTYPE=image/jpeg:https://swiss-chamber.pt/wp-content/uploads/2023/04/gotomarketsuica.jpg
END:VEVENT
BEGIN:VEVENT
DTSTART;VALUE=DATE:20220705
DTEND;VALUE=DATE:20220706
DTSTAMP:20260422T221754
CREATED:20230426T171203Z
LAST-MODIFIED:20230426T171304Z
UID:3244-1656979200-1657065599@swiss-chamber.pt
SUMMARY:ABC Swiss Market
DESCRIPTION:AICEP Academy \nThis ABC Market Switzerland will have a face-to-face format to be held on the 5th of July\, starting at 9:30 am\, at the Auditorium José Lima Torres\, of APDL\, Porto de Leixões\, in Leça da Palmeira. In the morning there will be an exposition session and in the afternoon there will be short meetings with the AICEP Delegate in Bern\, Switzerland\, Ana Maria Rosas. \nLEARN MORE
URL:https://swiss-chamber.pt/event/abc-swiss-market/
ATTACH;FMTTYPE=image/jpeg:https://swiss-chamber.pt/wp-content/uploads/2023/04/abcmercadosuica.jpg
END:VEVENT
BEGIN:VEVENT
DTSTART;TZID=UTC:20220628T143000
DTEND;TZID=UTC:20220628T210000
DTSTAMP:20260422T221754
CREATED:20230426T171506Z
LAST-MODIFIED:20230426T171530Z
UID:3249-1656426600-1656450000@swiss-chamber.pt
SUMMARY:Sustainable Blue Economy Investment Forum (SBEIF) 2022
DESCRIPTION:The Governments of Portugal and Kenya are proud to organize the Sustainable Blue Economy Investment Forum (SBEIF)\, a special event of the 2nd United Nations Ocean Conference that will take place at Estoril Congress Center in Cascais on June 28\, 2022\, 3.00pm. Read more \nDownload Program \nDownload UNOC – Special Events Flyer
URL:https://swiss-chamber.pt/event/sustainable-blue-economy-investment-forum-sbeif-2022/
ATTACH;FMTTYPE=image/jpeg:https://swiss-chamber.pt/wp-content/uploads/2023/04/SBEIF-Estoril.jpg
END:VEVENT
BEGIN:VEVENT
DTSTART;TZID=UTC:20220329T183000
DTEND;TZID=UTC:20220329T230000
DTSTAMP:20260422T221754
CREATED:20230426T171758Z
LAST-MODIFIED:20230426T171758Z
UID:3253-1648578600-1648594800@swiss-chamber.pt
SUMMARY:CCISP General Assembly
DESCRIPTION:General Assembly – Followed by dinner\nDate: 03/29/2022\nTime: 18:30 General Assembly (only for associates);\n20:00 Dinner (members and non-members)\nLocation: Hotel Altis\, Rua Castilho 11\n1269-072 Lisbon \nSubscription and Information
URL:https://swiss-chamber.pt/event/ccisp-general-assembly-2/
ATTACH;FMTTYPE=image/jpeg:https://swiss-chamber.pt/wp-content/uploads/2023/04/CCISP_Logo_new-grey-text-2.jpg
END:VEVENT
END:VCALENDAR