BEGIN:VCALENDAR
VERSION:2.0
PRODID:-//Swiss Chamber in Portugal - ECPv6.15.20//NONSGML v1.0//EN
CALSCALE:GREGORIAN
METHOD:PUBLISH
X-WR-CALNAME:Swiss Chamber in Portugal
X-ORIGINAL-URL:https://swiss-chamber.pt
X-WR-CALDESC:Events for Swiss Chamber in Portugal
REFRESH-INTERVAL;VALUE=DURATION:PT1H
X-Robots-Tag:noindex
X-PUBLISHED-TTL:PT1H
BEGIN:VTIMEZONE
TZID:UTC
BEGIN:STANDARD
TZOFFSETFROM:+0000
TZOFFSETTO:+0000
TZNAME:UTC
DTSTART:20250101T000000
END:STANDARD
END:VTIMEZONE
BEGIN:VEVENT
DTSTART;TZID=UTC:20260128T083000
DTEND;TZID=UTC:20260128T100000
DTSTAMP:20260422T215805
CREATED:20260109T112715Z
LAST-MODIFIED:20260109T114403Z
UID:10189-1769589000-1769594400@swiss-chamber.pt
SUMMARY:Swiss Business Breakfast(MEMBERS ONLY EVENT!)
DESCRIPTION:Dear Members of the CCISP\, \nWe hope that you have all had a good start to the new year.\nWith all the ongoing geopolitical and technological changes\, 2026 looks set to be an interesting and decisive year. We wish you all a lot of inspiration\, power do adapt\, persistance and success for the upcoming challenges.\nWith this in mind\, the CCISP is contributing to meet these challenges with our first event in 2026. Please save the date!\nWe look forward to welcoming you soon to our first Swiss Business Breakfast in 2026. \nTopic: Solving the Challenge of Implementing AI\nDate and time: Wednesday\, 28/01/2026\, 8h30-10h\nLocation: Aubay Portugal\, Rua Julieta Ferrão\, 10 – 11º andar\, 1600-131 Lisboa\nInscription: Free\, but registration required. Click on info@camsuica.com\, indicating only your name\, function and company.\nMEMBERS ONLY! Deadline for inscriptions: 23/01/2026 \nThe presentation will be held in English. \n→ Download pdf
URL:https://swiss-chamber.pt/event/swiss-business-breakfastmembers-only-event-2/
LOCATION:Aubay Portugal\, Rua Julieta Ferrão\, 10 – 11º andar\, Lisboa\, 1600-131\, Portugal
CATEGORIES:Members Only Events
ATTACH;FMTTYPE=image/jpeg:https://swiss-chamber.pt/wp-content/uploads/2026/01/20260128_SBB-Aubay_web3.jpg
END:VEVENT
BEGIN:VEVENT
DTSTART;TZID=UTC:20260224T150000
DTEND;TZID=UTC:20260224T160000
DTSTAMP:20260422T215805
CREATED:20260212T151916Z
LAST-MODIFIED:20260212T152653Z
UID:10210-1771945200-1771948800@swiss-chamber.pt
SUMMARY:Webinar: Building Practical AI Agents for Every Company
DESCRIPTION:The CCISP continues its journey to support the companies in the field of AI. \nIn our last event at Aubay Portugal on 28/01/2026\, we have learned\, among other things\, that instead of rushing to implement AI tools\, we must analyse problems and processes first\, and only on that basis we shall look out for new tools. Because the problem may be solved in a different way instead of using a fancy AI tool.\nYou can download the Aubay presentation here\, and download the AI Adoption Tookit for free by using this link: Swiss Business Breakfast \nThe next CCISP AI initiative is coming up: \nFrom AI Tools to AI Workflows: Building Practical AI Agents for Every Company\nAI is no longer just about ChatGPT prompts. \n→ REGISTER HERE\nFree Webinar in English language. \nPhoto by Riekus for Pixabay
URL:https://swiss-chamber.pt/event/webinar-building-practical-ai-agents-for-every-company/
ATTACH;FMTTYPE=image/jpeg:https://swiss-chamber.pt/wp-content/uploads/2026/02/riekus-laptop-6332544.jpg
END:VEVENT
BEGIN:VEVENT
DTSTART;TZID=UTC:20260512T183000
DTEND;TZID=UTC:20260512T220000
DTSTAMP:20260422T215805
CREATED:20260421T171924Z
LAST-MODIFIED:20260422T081136Z
UID:10342-1778610600-1778623200@swiss-chamber.pt
SUMMARY:Save-the-date: CCISP Assembleia Geral Ordinária
DESCRIPTION:Pode descarregar aqui a convocatória\, bem como a ata da AG do ano passado\, de modo que a leitura da mesma possa ser dispensada.\nNote por favor: a convocatória para as 17h30 é meramente estatutária e formal. A assembleia só terá início às 18h30. \nDurante o jantar\, espera-o uma sessão especial (em inglês): What Leaders Need to Know.\nÀ medida que o trabalho híbrido\, a IA e as lacunas de liderança remodelam os locais de trabalho\, a confiança está a diminuir. A psicóloga clínica Ema Shaw Evangelista partilha connosco\, numa conversa com o Renzo Pellandini\, os conhecimentos e a sua experiência para reestabelecer a confiança para fortalecer a coesão organizacional. Para o jantar\, também podem juntar-se-nos pessoas de entidades não-associadas. \nOs detalhes para a inscrição serão divulgados em breve.\nTeremos todo o prazer em recebê-lo nesta noite especial.\nCusto Jantar: € 40 Membros / € 48 (+IVA) Não-Membros
URL:https://swiss-chamber.pt/event/save-the-date-ccisp-assembleia-geral-ordinaria/
LOCATION:Martinhal Lisbon Oriente\, Praça Príncipe Perfeito\, Lisboa\, 1990-221\, Portugal
ATTACH;FMTTYPE=image/jpeg:https://swiss-chamber.pt/wp-content/uploads/2026/04/General-Assembly2.jpg
END:VEVENT
END:VCALENDAR