BEGIN:VCALENDAR
VERSION:2.0
PRODID:-//Swiss Chamber in Portugal - ECPv6.15.20//NONSGML v1.0//EN
CALSCALE:GREGORIAN
METHOD:PUBLISH
X-WR-CALNAME:Swiss Chamber in Portugal
X-ORIGINAL-URL:https://swiss-chamber.pt
X-WR-CALDESC:Events for Swiss Chamber in Portugal
REFRESH-INTERVAL;VALUE=DURATION:PT1H
X-Robots-Tag:noindex
X-PUBLISHED-TTL:PT1H
BEGIN:VTIMEZONE
TZID:UTC
BEGIN:STANDARD
TZOFFSETFROM:+0000
TZOFFSETTO:+0000
TZNAME:UTC
DTSTART:20210101T000000
END:STANDARD
END:VTIMEZONE
BEGIN:VEVENT
DTSTART;TZID=UTC:20221102T190000
DTEND;TZID=UTC:20221102T230000
DTSTAMP:20260422T221948
CREATED:20230426T170617Z
LAST-MODIFIED:20230426T170617Z
UID:3237-1667415600-1667430000@swiss-chamber.pt
SUMMARY:#Swisstech Night at Websummit
DESCRIPTION:A unique side event during the Websummit 2022 to mingle with the Swiss startup and investor community.\nNo participation costs.\nBeing part of an international audience to attend startup pitches presenting their disruptive ideas.\nMeet\, share and learn: Network with investors\, startups\, representatives of official institutions\, leaders of big companies and the media. \n+ INFO & Inscription Form
URL:https://swiss-chamber.pt/event/swisstech-night-at-websummit/
ATTACH;FMTTYPE=image/jpeg:https://swiss-chamber.pt/wp-content/uploads/2023/04/swisstech-2022.jpg
END:VEVENT
BEGIN:VEVENT
DTSTART;VALUE=DATE:20220706
DTEND;VALUE=DATE:20220707
DTSTAMP:20260422T221948
CREATED:20230426T170942Z
LAST-MODIFIED:20230426T171037Z
UID:3240-1657065600-1657151999@swiss-chamber.pt
SUMMARY:Go to Market Suíça
DESCRIPTION:AICEP Academy \nThis working breakfast will be held in Sala Tom Jobim\, at Hotel da Música\, in the city of Porto\, on the morning of the next 6th of July\, with work opening at 9:30 am. \nLEARN MORE
URL:https://swiss-chamber.pt/event/go-to-market-suica/
ATTACH;FMTTYPE=image/jpeg:https://swiss-chamber.pt/wp-content/uploads/2023/04/gotomarketsuica.jpg
END:VEVENT
BEGIN:VEVENT
DTSTART;VALUE=DATE:20220705
DTEND;VALUE=DATE:20220706
DTSTAMP:20260422T221948
CREATED:20230426T171203Z
LAST-MODIFIED:20230426T171304Z
UID:3244-1656979200-1657065599@swiss-chamber.pt
SUMMARY:ABC Swiss Market
DESCRIPTION:AICEP Academy \nThis ABC Market Switzerland will have a face-to-face format to be held on the 5th of July\, starting at 9:30 am\, at the Auditorium José Lima Torres\, of APDL\, Porto de Leixões\, in Leça da Palmeira. In the morning there will be an exposition session and in the afternoon there will be short meetings with the AICEP Delegate in Bern\, Switzerland\, Ana Maria Rosas. \nLEARN MORE
URL:https://swiss-chamber.pt/event/abc-swiss-market/
ATTACH;FMTTYPE=image/jpeg:https://swiss-chamber.pt/wp-content/uploads/2023/04/abcmercadosuica.jpg
END:VEVENT
BEGIN:VEVENT
DTSTART;TZID=UTC:20220628T143000
DTEND;TZID=UTC:20220628T210000
DTSTAMP:20260422T221948
CREATED:20230426T171506Z
LAST-MODIFIED:20230426T171530Z
UID:3249-1656426600-1656450000@swiss-chamber.pt
SUMMARY:Sustainable Blue Economy Investment Forum (SBEIF) 2022
DESCRIPTION:The Governments of Portugal and Kenya are proud to organize the Sustainable Blue Economy Investment Forum (SBEIF)\, a special event of the 2nd United Nations Ocean Conference that will take place at Estoril Congress Center in Cascais on June 28\, 2022\, 3.00pm. Read more \nDownload Program \nDownload UNOC – Special Events Flyer
URL:https://swiss-chamber.pt/event/sustainable-blue-economy-investment-forum-sbeif-2022/
ATTACH;FMTTYPE=image/jpeg:https://swiss-chamber.pt/wp-content/uploads/2023/04/SBEIF-Estoril.jpg
END:VEVENT
BEGIN:VEVENT
DTSTART;TZID=UTC:20220329T183000
DTEND;TZID=UTC:20220329T230000
DTSTAMP:20260422T221948
CREATED:20230426T171758Z
LAST-MODIFIED:20230426T171758Z
UID:3253-1648578600-1648594800@swiss-chamber.pt
SUMMARY:CCISP General Assembly
DESCRIPTION:General Assembly – Followed by dinner\nDate: 03/29/2022\nTime: 18:30 General Assembly (only for associates);\n20:00 Dinner (members and non-members)\nLocation: Hotel Altis\, Rua Castilho 11\n1269-072 Lisbon \nSubscription and Information
URL:https://swiss-chamber.pt/event/ccisp-general-assembly-2/
ATTACH;FMTTYPE=image/jpeg:https://swiss-chamber.pt/wp-content/uploads/2023/04/CCISP_Logo_new-grey-text-2.jpg
END:VEVENT
END:VCALENDAR